BEGIN:VCALENDAR
VERSION:2.0
PRODID:-//swhealthcare.net//NONSGML kigkonsult.se iCalcreator 2.30.10//
CALSCALE:GREGORIAN
METHOD:PUBLISH
UID:1107c61c-6fc6-4683-9a42-841ac56f0247
X-WR-CALDESC:Dr. Feller will be seeing patients October 31- Nov. 8\, 2016.
X-WR-RELCALID:308ff0e7e687e9cd61686e4d59ddcf15
X-WR-TIMEZONE:America/Chicago
BEGIN:VTIMEZONE
TZID:America/Chicago
BEGIN:STANDARD
TZNAME:CST
DTSTART:20151101T020000
TZOFFSETFROM:-0500
TZOFFSETTO:-0600
RDATE:20161106T020000
RDATE:20171105T020000
END:STANDARD
BEGIN:DAYLIGHT
TZNAME:CDT
DTSTART:20160313T020000
TZOFFSETFROM:-0600
TZOFFSETTO:-0500
RDATE:20170312T020000
RDATE:20180311T020000
END:DAYLIGHT
END:VTIMEZONE
BEGIN:VEVENT
UID:38caed8a-398a-4157-9bd2-140a43ed0948
DTSTAMP:20260424T175503Z
DESCRIPTION:Dr. Feller will be seeing patients October 31- Nov. 8\, 2016.
DTSTART;TZID=America/Chicago:20161031T000000
DTEND;TZID=America/Chicago:20161108T095900
LOCATION:Southwest Medical Clinic
SUMMARY:Dr. Feller at SWMC
END:VEVENT
END:VCALENDAR
