BEGIN:VCALENDAR
VERSION:2.0
PRODID:-//swhealthcare.net//NONSGML kigkonsult.se iCalcreator 2.30.10//
CALSCALE:GREGORIAN
METHOD:PUBLISH
UID:8c0304d6-9d3c-4d53-824e-d4275fb93be1
X-WR-CALDESC:Dr. Michael Magidow will be seeing patients November 9-13.
X-WR-RELCALID:713d673412fd1b783668b5ec63f6a198
X-WR-TIMEZONE:America/Chicago
BEGIN:VTIMEZONE
TZID:America/Chicago
BEGIN:STANDARD
TZNAME:CST
DTSTART:20161106T020000
TZOFFSETFROM:-0500
TZOFFSETTO:-0600
RDATE:20171105T020000
END:STANDARD
BEGIN:DAYLIGHT
TZNAME:CDT
DTSTART:20160313T020000
TZOFFSETFROM:-0600
TZOFFSETTO:-0500
RDATE:20170312T020000
RDATE:20180311T020000
END:DAYLIGHT
END:VTIMEZONE
BEGIN:VEVENT
UID:58a93a86-f6cb-401e-bd23-266203b5263d
DTSTAMP:20260424T191259Z
DESCRIPTION:Dr. Michael Magidow will be seeing patients November 9-13.
DTSTART;TZID=America/Chicago:20161109T000000
DTEND;TZID=America/Chicago:20161113T045900
LOCATION:SWMC
SUMMARY:Dr. Michael Magidow
END:VEVENT
END:VCALENDAR
