BEGIN:VCALENDAR
VERSION:2.0
PRODID:-//swhealthcare.net//NONSGML kigkonsult.se iCalcreator 2.30.10//
CALSCALE:GREGORIAN
METHOD:PUBLISH
UID:d1e71303-300b-431b-8678-5c65105bfc0b
X-WR-CALDESC:Dr. Feller will be seeing patients Nov. 14-21\, 2016.
X-WR-RELCALID:870cbecdadb28a76e157e3efef8e25c2
X-WR-TIMEZONE:America/Chicago
BEGIN:VTIMEZONE
TZID:America/Chicago
BEGIN:STANDARD
TZNAME:CST
DTSTART:20161106T020000
TZOFFSETFROM:-0500
TZOFFSETTO:-0600
RDATE:20171105T020000
END:STANDARD
BEGIN:DAYLIGHT
TZNAME:CDT
DTSTART:20160313T020000
TZOFFSETFROM:-0600
TZOFFSETTO:-0500
RDATE:20170312T020000
RDATE:20180311T020000
END:DAYLIGHT
END:VTIMEZONE
BEGIN:VEVENT
UID:644efd6b-3ca4-4db2-af43-95710352273f
DTSTAMP:20260424T191106Z
DESCRIPTION:Dr. Feller will be seeing patients Nov. 14-21\, 2016.
DTSTART;TZID=America/Chicago:20161114T000000
DTEND;TZID=America/Chicago:20161121T115900
LOCATION:Southwest Medical Clinic
SUMMARY:Dr. Feller at SWMC
END:VEVENT
END:VCALENDAR
