BEGIN:VCALENDAR
VERSION:2.0
PRODID:-//swhealthcare.net//NONSGML kigkonsult.se iCalcreator 2.30.10//
CALSCALE:GREGORIAN
METHOD:PUBLISH
UID:6fdaf5e1-1076-457c-bf1c-250a68f5dde4
X-WR-CALDESC:Dr. Amy Oska\, Pediatrics from Sanford - Dickinson Clinic will
  be at Southwest Medical Clinic to see patients. Call 701-456-6004 to make
  an appointment.
X-WR-RELCALID:948dde501c17513a0aa4da6731af28c5
X-WR-TIMEZONE:America/Chicago
BEGIN:VTIMEZONE
TZID:America/Chicago
BEGIN:STANDARD
TZNAME:CST
DTSTART:20161106T020000
TZOFFSETFROM:-0500
TZOFFSETTO:-0600
RDATE:20171105T020000
END:STANDARD
BEGIN:DAYLIGHT
TZNAME:CDT
DTSTART:20160313T020000
TZOFFSETFROM:-0600
TZOFFSETTO:-0500
RDATE:20170312T020000
RDATE:20180311T020000
END:DAYLIGHT
END:VTIMEZONE
BEGIN:VEVENT
UID:ec784ae0-93fe-4053-850f-2b268ea86feb
DTSTAMP:20260424T190907Z
DESCRIPTION:Dr. Amy Oska\, Pediatrics from Sanford - Dickinson Clinic will 
 be at Southwest Medical Clinic to see patients. Call 701-456-6004 to make 
 an appointment.
DTSTART;TZID=America/Chicago:20161118T000000
DTEND;TZID=America/Chicago:20161118T025900
LOCATION:
SUMMARY:Dr. Amy Oska\, Pediatrics in Bowman
END:VEVENT
END:VCALENDAR
