BEGIN:VCALENDAR
VERSION:2.0
PRODID:-//swhealthcare.net//NONSGML kigkonsult.se iCalcreator 2.30.10//
CALSCALE:GREGORIAN
METHOD:PUBLISH
UID:ae31643f-85d5-40bf-9c94-394721d47316
X-WR-CALDESC:Dr. Krogh will be seeing patients Nov. 22 - Dec. 6\, 2016
X-WR-RELCALID:f81ce67a4fbfffa770a36cd91bca8861
X-WR-TIMEZONE:America/Chicago
BEGIN:VTIMEZONE
TZID:America/Chicago
BEGIN:STANDARD
TZNAME:CST
DTSTART:20161106T020000
TZOFFSETFROM:-0500
TZOFFSETTO:-0600
RDATE:20171105T020000
END:STANDARD
BEGIN:DAYLIGHT
TZNAME:CDT
DTSTART:20160313T020000
TZOFFSETFROM:-0600
TZOFFSETTO:-0500
RDATE:20170312T020000
RDATE:20180311T020000
END:DAYLIGHT
END:VTIMEZONE
BEGIN:VEVENT
UID:e81ab1b8-bdde-4f8a-b7da-6f6321667f59
DTSTAMP:20260424T190552Z
DESCRIPTION:Dr. Krogh will be seeing patients Nov. 22 - Dec. 6\, 2016
DTSTART;TZID=America/Chicago:20161122T000000
DTEND;TZID=America/Chicago:20161206T095900
LOCATION:Southwest Medical Clinic
SUMMARY:Dr. Krogh at SWMC
END:VEVENT
END:VCALENDAR
