BEGIN:VCALENDAR
VERSION:2.0
PRODID:-//swhealthcare.net//NONSGML kigkonsult.se iCalcreator 2.30.10//
CALSCALE:GREGORIAN
METHOD:PUBLISH
UID:f2b5f1e9-045c-47b6-a6c4-5f62f59d4e3c
X-WR-CALDESC:Dr. Feller will be seeing patients Dec. 7-13\, 2016.
X-WR-RELCALID:1dc2b2bd1952316153b96be1028ff5dd
X-WR-TIMEZONE:America/Chicago
BEGIN:VTIMEZONE
TZID:America/Chicago
BEGIN:STANDARD
TZNAME:CST
DTSTART:20161106T020000
TZOFFSETFROM:-0500
TZOFFSETTO:-0600
RDATE:20171105T020000
END:STANDARD
BEGIN:DAYLIGHT
TZNAME:CDT
DTSTART:20160313T020000
TZOFFSETFROM:-0600
TZOFFSETTO:-0500
RDATE:20170312T020000
RDATE:20180311T020000
END:DAYLIGHT
END:VTIMEZONE
BEGIN:VEVENT
UID:fa9d0cc3-6060-46d4-a318-1d70e0a66d23
DTSTAMP:20260424T203609Z
DESCRIPTION:Dr. Feller will be seeing patients Dec. 7-13\, 2016.
DTSTART;TZID=America/Chicago:20161207T000000
DTEND;TZID=America/Chicago:20161213T115900
LOCATION:Southwest Medical Clinic
SUMMARY:Dr. Feller at SWMC
END:VEVENT
END:VCALENDAR
