BEGIN:VCALENDAR
VERSION:2.0
PRODID:-//swhealthcare.net//NONSGML kigkonsult.se iCalcreator 2.30.10//
CALSCALE:GREGORIAN
METHOD:PUBLISH
UID:e180b1b1-9e94-4886-9291-3d82001ca57c
X-WR-CALDESC:Dr. Amy Oska\, Pediatrics from Sanford - Dickinson Clinic will
  be at Southwest Medical Clinic to see patients. Call 701-456-6004 to make
  an appointment.
X-WR-RELCALID:fc818eb113837a32a960d6ecf257f956
X-WR-TIMEZONE:America/Chicago
BEGIN:VTIMEZONE
TZID:America/Chicago
BEGIN:STANDARD
TZNAME:CST
DTSTART:20161106T020000
TZOFFSETFROM:-0500
TZOFFSETTO:-0600
RDATE:20171105T020000
END:STANDARD
BEGIN:DAYLIGHT
TZNAME:CDT
DTSTART:20160313T020000
TZOFFSETFROM:-0600
TZOFFSETTO:-0500
RDATE:20170312T020000
RDATE:20180311T020000
END:DAYLIGHT
END:VTIMEZONE
BEGIN:VEVENT
UID:b56b3139-8f6c-4cab-9aa9-a101d018d8a5
DTSTAMP:20260424T203352Z
DESCRIPTION:Dr. Amy Oska\, Pediatrics from Sanford - Dickinson Clinic will 
 be at Southwest Medical Clinic to see patients. Call 701-456-6004 to make 
 an appointment.
DTSTART;TZID=America/Chicago:20161209T000000
DTEND;TZID=America/Chicago:20161209T035900
LOCATION:
SUMMARY:Dr. Amy Oska\, Pediatrics in Bowman
END:VEVENT
END:VCALENDAR
