BEGIN:VCALENDAR
VERSION:2.0
PRODID:-//swhealthcare.net//NONSGML kigkonsult.se iCalcreator 2.30.10//
CALSCALE:GREGORIAN
METHOD:PUBLISH
UID:6919b498-2b93-4ab1-b833-5b89b6bf5700
X-WR-CALDESC:Dr. Ed Moellmer will be seeing patients December 14-26.
X-WR-RELCALID:c71109325790566929a6a65533e33bc1
X-WR-TIMEZONE:America/Chicago
BEGIN:VTIMEZONE
TZID:America/Chicago
BEGIN:STANDARD
TZNAME:CST
DTSTART:20161106T020000
TZOFFSETFROM:-0500
TZOFFSETTO:-0600
RDATE:20171105T020000
END:STANDARD
BEGIN:DAYLIGHT
TZNAME:CDT
DTSTART:20160313T020000
TZOFFSETFROM:-0600
TZOFFSETTO:-0500
RDATE:20170312T020000
RDATE:20180311T020000
END:DAYLIGHT
END:VTIMEZONE
BEGIN:VEVENT
UID:57f98e76-dc12-475b-9863-ec8c2b3f5567
DTSTAMP:20260424T203727Z
DESCRIPTION:Dr. Ed Moellmer will be seeing patients December 14-26.
DTSTART;TZID=America/Chicago:20161214T000000
DTEND;TZID=America/Chicago:20161226T045900
LOCATION:SWMC
SUMMARY:Dr. Ed Moellmer
END:VEVENT
END:VCALENDAR
