BEGIN:VCALENDAR
VERSION:2.0
PRODID:-//swhealthcare.net//NONSGML kigkonsult.se iCalcreator 2.30.10//
CALSCALE:GREGORIAN
METHOD:PUBLISH
UID:370c2360-9994-49e7-b0f3-9bfebcecaae3
X-WR-CALDESC:Dr. Michael Magidow will be seeing patients January 11-16\, 20
 17.
X-WR-RELCALID:983ca8e43e8616d06a06d1271e71964b
X-WR-TIMEZONE:America/Chicago
BEGIN:VTIMEZONE
TZID:America/Chicago
BEGIN:STANDARD
TZNAME:CST
DTSTART:20161106T020000
TZOFFSETFROM:-0500
TZOFFSETTO:-0600
RDATE:20171105T020000
END:STANDARD
BEGIN:DAYLIGHT
TZNAME:CDT
DTSTART:20160313T020000
TZOFFSETFROM:-0600
TZOFFSETTO:-0500
RDATE:20170312T020000
RDATE:20180311T020000
END:DAYLIGHT
END:VTIMEZONE
BEGIN:VEVENT
UID:48265e6d-d1de-4ef0-ae31-f8b088de9303
DTSTAMP:20260424T220424Z
DESCRIPTION:Dr. Michael Magidow will be seeing patients January 11-16\, 201
 7.
DTSTART;TZID=America/Chicago:20170111T000000
DTEND;TZID=America/Chicago:20170116T055900
LOCATION:SWMC
SUMMARY:Dr. Michael Magidow
END:VEVENT
END:VCALENDAR
