BEGIN:VCALENDAR
VERSION:2.0
PRODID:-//swhealthcare.net//NONSGML kigkonsult.se iCalcreator 2.30.10//
CALSCALE:GREGORIAN
METHOD:PUBLISH
UID:bf9263a3-7e03-469b-a70e-c1b88e60c75d
X-WR-CALDESC:Dr. Krogh will be seeing patients February 1-10\, 2017
X-WR-RELCALID:fc07ea1a819d6c471d8fec2a350466ff
X-WR-TIMEZONE:America/Chicago
BEGIN:VTIMEZONE
TZID:America/Chicago
BEGIN:STANDARD
TZNAME:CST
DTSTART:20161106T020000
TZOFFSETFROM:-0500
TZOFFSETTO:-0600
RDATE:20171105T020000
END:STANDARD
BEGIN:DAYLIGHT
TZNAME:CDT
DTSTART:20160313T020000
TZOFFSETFROM:-0600
TZOFFSETTO:-0500
RDATE:20170312T020000
RDATE:20180311T020000
END:DAYLIGHT
END:VTIMEZONE
BEGIN:VEVENT
UID:1c8f9475-25c6-49a4-b613-6824733c96fb
DTSTAMP:20260424T233643Z
DESCRIPTION:Dr. Krogh will be seeing patients February 1-10\, 2017
DTSTART;TZID=America/Chicago:20170201T000000
DTEND;TZID=America/Chicago:20170210T125900
LOCATION:Southwest Medical Clinic
SUMMARY:Dr. Krogh at SWMC
END:VEVENT
END:VCALENDAR
