BEGIN:VCALENDAR
VERSION:2.0
PRODID:-//swhealthcare.net//NONSGML kigkonsult.se iCalcreator 2.30.10//
CALSCALE:GREGORIAN
METHOD:PUBLISH
UID:5823562d-0d00-4c69-b9ec-b85e8cb634e3
X-WR-CALDESC:Dr. Arnold\, Obstetrics/Gynecology will be at Southwest Medica
 l Clinic to see patients. Call 523-3226 to make an appointment.
X-WR-RELCALID:2bd8ef40857a01bb05210afa50973397
X-WR-TIMEZONE:America/Chicago
BEGIN:VTIMEZONE
TZID:America/Chicago
BEGIN:STANDARD
TZNAME:CST
DTSTART:20161106T020000
TZOFFSETFROM:-0500
TZOFFSETTO:-0600
RDATE:20171105T020000
END:STANDARD
BEGIN:DAYLIGHT
TZNAME:CDT
DTSTART:20160313T020000
TZOFFSETFROM:-0600
TZOFFSETTO:-0500
RDATE:20170312T020000
RDATE:20180311T020000
END:DAYLIGHT
END:VTIMEZONE
BEGIN:VEVENT
UID:e69208b2-fa80-444e-91d7-22d8f9a16740
DTSTAMP:20260424T233541Z
DESCRIPTION:Dr. Arnold\, Obstetrics/Gynecology will be at Southwest Medical
  Clinic to see patients. Call 523-3226 to make an appointment.
DTSTART;TZID=America/Chicago:20170208T000000
DTEND;TZID=America/Chicago:20170208T045900
LOCATION:Southwest Medical Clinic
SUMMARY:Dr. Arnold\, OBGYN in Bowman
END:VEVENT
END:VCALENDAR
