BEGIN:VCALENDAR
VERSION:2.0
PRODID:-//swhealthcare.net//NONSGML kigkonsult.se iCalcreator 2.30.10//
CALSCALE:GREGORIAN
METHOD:PUBLISH
UID:c91629e8-7499-4c33-b682-7ca427093573
X-WR-CALDESC:Dr. Feller will be seeing patients February 11-20\, 2017.
X-WR-RELCALID:bc89eb3ec75190ddc710f6f9d83b3d42
X-WR-TIMEZONE:America/Chicago
BEGIN:VTIMEZONE
TZID:America/Chicago
BEGIN:STANDARD
TZNAME:CST
DTSTART:20161106T020000
TZOFFSETFROM:-0500
TZOFFSETTO:-0600
RDATE:20171105T020000
END:STANDARD
BEGIN:DAYLIGHT
TZNAME:CDT
DTSTART:20160313T020000
TZOFFSETFROM:-0600
TZOFFSETTO:-0500
RDATE:20170312T020000
RDATE:20180311T020000
END:DAYLIGHT
END:VTIMEZONE
BEGIN:VEVENT
UID:6be9315d-eff8-41de-b018-99733f3672c9
DTSTAMP:20260424T233402Z
DESCRIPTION:Dr. Feller will be seeing patients February 11-20\, 2017.
DTSTART;TZID=America/Chicago:20170211T000000
DTEND;TZID=America/Chicago:20170220T135900
LOCATION:Southwest Medical Clinic
SUMMARY:Dr. Feller at SWMC
END:VEVENT
END:VCALENDAR
