BEGIN:VCALENDAR
VERSION:2.0
PRODID:-//swhealthcare.net//NONSGML kigkonsult.se iCalcreator 2.30.10//
CALSCALE:GREGORIAN
METHOD:PUBLISH
UID:9ec9268a-2e48-49a0-8ca3-b237bf196181
X-WR-CALDESC:Please purchase tickets before event.  Please contact Jen Jahn
 er at (701) 523-5555.
X-WR-RELCALID:8d23d10afef585e542d706b6833fa5dc
X-WR-TIMEZONE:America/Chicago
BEGIN:VTIMEZONE
TZID:America/Chicago
BEGIN:STANDARD
TZNAME:CST
DTSTART:20161106T020000
TZOFFSETFROM:-0500
TZOFFSETTO:-0600
RDATE:20171105T020000
END:STANDARD
BEGIN:DAYLIGHT
TZNAME:CDT
DTSTART:20160313T020000
TZOFFSETFROM:-0600
TZOFFSETTO:-0500
RDATE:20170312T020000
RDATE:20180311T020000
END:DAYLIGHT
END:VTIMEZONE
BEGIN:VEVENT
UID:ef01be8c-302b-4e62-b56c-2d375f15d84c
DTSTAMP:20260424T233114Z
DESCRIPTION:Please purchase tickets before event.  Please contact Jen Jahne
 r at (701) 523-5555.
DTSTART;TZID=America/Chicago:20170213T170000
DTEND;TZID=America/Chicago:20170213T233000
LOCATION:Four Seasons
SUMMARY:Celebrity Waiter
END:VEVENT
END:VCALENDAR
