BEGIN:VCALENDAR
VERSION:2.0
PRODID:-//swhealthcare.net//NONSGML kigkonsult.se iCalcreator 2.30.10//
CALSCALE:GREGORIAN
METHOD:PUBLISH
UID:07b042bf-5e37-431f-8993-9f30e2608fed
X-WR-CALDESC:Dr. Ed Moellmer will be seeing patients February 21-27\, 2017.
X-WR-RELCALID:276813dd3bcea672b6d26d459403ff9f
X-WR-TIMEZONE:America/Chicago
BEGIN:VTIMEZONE
TZID:America/Chicago
BEGIN:STANDARD
TZNAME:CST
DTSTART:20161106T020000
TZOFFSETFROM:-0500
TZOFFSETTO:-0600
RDATE:20171105T020000
END:STANDARD
BEGIN:DAYLIGHT
TZNAME:CDT
DTSTART:20160313T020000
TZOFFSETFROM:-0600
TZOFFSETTO:-0500
RDATE:20170312T020000
RDATE:20180311T020000
END:DAYLIGHT
END:VTIMEZONE
BEGIN:VEVENT
UID:646c8fb8-25e4-4071-8da6-2ff5d8ddff6e
DTSTAMP:20260424T232631Z
DESCRIPTION:Dr. Ed Moellmer will be seeing patients February 21-27\, 2017.
DTSTART;TZID=America/Chicago:20170221T000000
DTEND;TZID=America/Chicago:20170227T065900
LOCATION:SWMC
SUMMARY:Dr. Ed Moellmer
END:VEVENT
END:VCALENDAR
