BEGIN:VCALENDAR
VERSION:2.0
PRODID:-//swhealthcare.net//NONSGML kigkonsult.se iCalcreator 2.30.10//
CALSCALE:GREGORIAN
METHOD:PUBLISH
UID:0f29e04a-cc1b-4b67-8243-3f1886ade85a
X-WR-CALDESC:Dr. Krogh will be seeing patients February 28- March 10\, 2017
X-WR-RELCALID:90d4b38c7bd6e70ef5f23a95e724f9ef
X-WR-TIMEZONE:America/Chicago
BEGIN:VTIMEZONE
TZID:America/Chicago
BEGIN:STANDARD
TZNAME:CST
DTSTART:20161106T020000
TZOFFSETFROM:-0500
TZOFFSETTO:-0600
RDATE:20171105T020000
END:STANDARD
BEGIN:DAYLIGHT
TZNAME:CDT
DTSTART:20160313T020000
TZOFFSETFROM:-0600
TZOFFSETTO:-0500
RDATE:20170312T020000
RDATE:20180311T020000
END:DAYLIGHT
END:VTIMEZONE
BEGIN:VEVENT
UID:9e314a3c-0fd9-4a19-8eb0-521015d3738d
DTSTAMP:20260424T232641Z
DESCRIPTION:Dr. Krogh will be seeing patients February 28- March 10\, 2017
DTSTART;TZID=America/Chicago:20170228T000000
DTEND;TZID=America/Chicago:20170310T135900
LOCATION:Southwest Medical Clinic
SUMMARY:Dr. Krogh at SWMC
END:VEVENT
END:VCALENDAR
