BEGIN:VCALENDAR
VERSION:2.0
PRODID:-//swhealthcare.net//NONSGML kigkonsult.se iCalcreator 2.30.10//
CALSCALE:GREGORIAN
METHOD:PUBLISH
UID:1831cba9-97b4-4488-a478-b3316c2c878f
X-WR-CALDESC:Dr. Feller will be seeing patients March 11-20\, 2017.
X-WR-RELCALID:7f08a08ea4c59c730f6a618c91c4588a
X-WR-TIMEZONE:America/Chicago
BEGIN:VTIMEZONE
TZID:America/Chicago
BEGIN:STANDARD
TZNAME:CST
DTSTART:20161106T020000
TZOFFSETFROM:-0500
TZOFFSETTO:-0600
RDATE:20171105T020000
END:STANDARD
BEGIN:DAYLIGHT
TZNAME:CDT
DTSTART:20160313T020000
TZOFFSETFROM:-0600
TZOFFSETTO:-0500
RDATE:20170312T020000
RDATE:20180311T020000
END:DAYLIGHT
END:VTIMEZONE
BEGIN:VEVENT
UID:496621a3-dedf-4ded-96ea-2c254c43fb1d
DTSTAMP:20260425T005658Z
DESCRIPTION:Dr. Feller will be seeing patients March 11-20\, 2017.
DTSTART;TZID=America/Chicago:20170311T000000
DTEND;TZID=America/Chicago:20170320T155900
LOCATION:Southwest Medical Clinic
SUMMARY:Dr. Feller at SWMC
END:VEVENT
END:VCALENDAR
