BEGIN:VCALENDAR
VERSION:2.0
PRODID:-//swhealthcare.net//NONSGML kigkonsult.se iCalcreator 2.30.10//
CALSCALE:GREGORIAN
METHOD:PUBLISH
UID:f7f4dc68-5355-4e3e-ade7-e58172dedee0
X-WR-CALDESC:Dr. Ed Moellmer will be seeing patients March 21-27\, 2017.
X-WR-RELCALID:3ccd5f7fcd56a778f1dae7d752be73c0
X-WR-TIMEZONE:America/Chicago
BEGIN:VTIMEZONE
TZID:America/Chicago
BEGIN:STANDARD
TZNAME:CST
DTSTART:20161106T020000
TZOFFSETFROM:-0500
TZOFFSETTO:-0600
RDATE:20171105T020000
END:STANDARD
BEGIN:DAYLIGHT
TZNAME:CDT
DTSTART:20170312T020000
TZOFFSETFROM:-0600
TZOFFSETTO:-0500
RDATE:20180311T020000
END:DAYLIGHT
END:VTIMEZONE
BEGIN:VEVENT
UID:ce5b7a31-7c28-4a74-b0cf-d2166f2a4fba
DTSTAMP:20260425T005506Z
DESCRIPTION:Dr. Ed Moellmer will be seeing patients March 21-27\, 2017.
DTSTART;TZID=America/Chicago:20170321T000000
DTEND;TZID=America/Chicago:20170327T075900
LOCATION:SWMC
SUMMARY:Dr. Ed Moellmer
END:VEVENT
END:VCALENDAR
