BEGIN:VCALENDAR
VERSION:2.0
PRODID:-//swhealthcare.net//NONSGML kigkonsult.se iCalcreator 2.30.10//
CALSCALE:GREGORIAN
METHOD:PUBLISH
UID:64d18503-fadc-4f24-a9ef-64ad41fbc0c5
X-WR-CALDESC:Dr. Ed Moellmer will be seeing patients April 19-25\, 2017.
X-WR-RELCALID:a7431da59b26c877be1d7bfad44b2a52
X-WR-TIMEZONE:America/Chicago
BEGIN:VTIMEZONE
TZID:America/Chicago
BEGIN:STANDARD
TZNAME:CST
DTSTART:20161106T020000
TZOFFSETFROM:-0500
TZOFFSETTO:-0600
RDATE:20171105T020000
END:STANDARD
BEGIN:DAYLIGHT
TZNAME:CDT
DTSTART:20170312T020000
TZOFFSETFROM:-0600
TZOFFSETTO:-0500
RDATE:20180311T020000
END:DAYLIGHT
END:VTIMEZONE
BEGIN:VEVENT
UID:63e74539-8f8c-4b92-a142-0aa1834acd07
DTSTAMP:20260425T023759Z
DESCRIPTION:Dr. Ed Moellmer will be seeing patients April 19-25\, 2017.
DTSTART;TZID=America/Chicago:20170419T000000
DTEND;TZID=America/Chicago:20170425T085900
LOCATION:SWMC
SUMMARY:Dr. Ed Moellmer
END:VEVENT
END:VCALENDAR
