BEGIN:VCALENDAR
VERSION:2.0
PRODID:-//swhealthcare.net//NONSGML kigkonsult.se iCalcreator 2.30.10//
CALSCALE:GREGORIAN
METHOD:PUBLISH
UID:d495e3a8-123f-46ab-a86d-e546889e6933
X-WR-CALDESC:Dr. Krogh will be seeing patients April 26- May 6\, 2017
X-WR-RELCALID:f6c1e75ef653be234d804e978f982605
X-WR-TIMEZONE:America/Chicago
BEGIN:VTIMEZONE
TZID:America/Chicago
BEGIN:STANDARD
TZNAME:CST
DTSTART:20161106T020000
TZOFFSETFROM:-0500
TZOFFSETTO:-0600
RDATE:20171105T020000
END:STANDARD
BEGIN:DAYLIGHT
TZNAME:CDT
DTSTART:20170312T020000
TZOFFSETFROM:-0600
TZOFFSETTO:-0500
RDATE:20180311T020000
END:DAYLIGHT
END:VTIMEZONE
BEGIN:VEVENT
UID:7c96de6e-df29-47f0-9c9d-f18d7728c8fa
DTSTAMP:20260425T023759Z
DESCRIPTION:Dr. Krogh will be seeing patients April 26- May 6\, 2017
DTSTART;TZID=America/Chicago:20170426T000000
DTEND;TZID=America/Chicago:20170506T155900
LOCATION:Southwest Medical Clinic
SUMMARY:Dr. Krogh at SWMC
END:VEVENT
END:VCALENDAR
