BEGIN:VCALENDAR
VERSION:2.0
PRODID:-//swhealthcare.net//NONSGML kigkonsult.se iCalcreator 2.30.10//
CALSCALE:GREGORIAN
METHOD:PUBLISH
UID:980b1bf4-b40b-4f6a-89c1-bcbb71daaa4b
X-WR-CALDESC:Dr. Arnold\, Obstetrics/Gynecology will be at Southwest Medica
 l Clinic to see patients. Call 523-3226 to make an appointment.
X-WR-RELCALID:af84b408861d1f05b44e60f30b78d2be
X-WR-TIMEZONE:America/Chicago
BEGIN:VTIMEZONE
TZID:America/Chicago
BEGIN:STANDARD
TZNAME:CST
DTSTART:20161106T020000
TZOFFSETFROM:-0500
TZOFFSETTO:-0600
RDATE:20171105T020000
RDATE:20181104T020000
END:STANDARD
BEGIN:DAYLIGHT
TZNAME:CDT
DTSTART:20170312T020000
TZOFFSETFROM:-0600
TZOFFSETTO:-0500
RDATE:20180311T020000
RDATE:20190310T020000
END:DAYLIGHT
END:VTIMEZONE
BEGIN:VEVENT
UID:b5644ea6-10bc-4723-8e40-143bdfa08744
DTSTAMP:20260425T104332Z
DESCRIPTION:Dr. Arnold\, Obstetrics/Gynecology will be at Southwest Medical
  Clinic to see patients. Call 523-3226 to make an appointment.
DTSTART;TZID=America/Chicago:20171011T000000
DTEND;TZID=America/Chicago:20171011T065900
LOCATION:Southwest Medical Clinic
SUMMARY:Dr. Arnold\, OBGYN in Bowman
END:VEVENT
END:VCALENDAR
